{"text_format":"1","workbook":"xlsx","n_sheets":3,"sheets":["uitslagen","stand","onderling resultaat"],"not_rendered":{"charts":0,"images":0,"macros":1,"external_links":0,"defined_names":4,"comments":0,"pivot_tables":0},"unopened":[],"bounds":{"document_bytes":16777216,"sheet_cells":100000,"rows_first":2000,"rows_last":500,"rows_between":2000,"halvings":0,"cell_chars":16384,"cell_head_chars":4096},"cells_cut":0,"cells_raw":0,"read":"whole","date_system":"1900"}

{"sheet":"uitslagen","index":0,"n_rows":52,"n_cols":63,"rows_kept":52,"cut":false,"hidden":false,"merged":[[51,25,51,26],[51,35,51,36],[51,27,51,28],[51,29,51,30],[51,31,51,32],[51,33,51,34],[51,13,51,14],[51,15,51,16],[51,17,51,18],[51,19,51,20],[51,21,51,22],[51,23,51,24],[51,1,51,2],[51,3,51,4],[51,5,51,6],[51,7,51,8],[51,9,51,10],[51,11,51,12],[50,25,50,26],[50,27,50,28],[50,29,50,30],[50,31,50,32],[50,33,50,34],[50,35,50,36],[50,13,50,14],[50,15,50,16],[50,17,50,18],[50,19,50,20],[50,21,50,22],[50,23,50,24],[50,1,50,2],[50,3,50,4],[50,5,50,6],[50,7,50,8],[50,9,50,10],[50,11,50,12],[49,25,49,26],[49,27,49,28],[49,29,49,30],[49,31,49,32],[49,33,49,34],[49,35,49,36],[49,13,49,14],[49,15,49,16],[49,17,49,18],[49,19,49,20],[49,21,49,22],[49,23,49,24],[49,1,49,2],[49,3,49,4],[49,5,49,6],[49,7,49,8],[49,9,49,10],[49,11,49,12],[42,31,42,32],[43,33,43,34],[43,29,43,30],[41,27,41,28],[41,31,41,32],[44,35,44,36],[34,15,34,16],[35,17,35,18],[38,25,38,26],[36,25,36,26],[40,27,40,28],[41,29,41,30],[36,27,36,28],[36,29,36,30],[5,1,6,3],[44,27,44,28],[44,29,44,30],[44,31,44,32],[44,11,44,12],[44,13,44,14],[44,15,44,16],[44,17,44,18],[44,3,44,4],[44,5,44,6],[43,15,43,16],[43,17,43,18],[44,33,44,34],[44,19,44,20],[44,21,44,22],[44,23,44,24],[44,25,44,26],[42,25,42,26],[42,27,42,28],[42,29,42,30],[42,33,42,34],[43,25,43,26],[44,7,44,8],[44,9,44,10],[43,27,43,28],[43,11,43,12],[43,13,43,14],[43,3,43,4],[43,5,43,6],[43,7,43,8],[43,9,43,10],[42,35,42,36],[43,31,43,32],[43,35,43,36],[43,19,43,20],[43,21,43,22],[43,23,43,24],[42,13,42,14],[42,15,42,16],[42,17,42,18],[42,19,42,20],[42,21,42,22],[42,23,42,24],[41,21,41,22],[41,23,41,24],[41,25,41,26],[41,33,41,34],[41,35,41,36],[42,3,42,4],[42,5,42,6],[42,7,42,8],[42,9,42,10],[42,11,42,12],[40,35,40,36],[41,3,41,4],[41,5,41,6],[41,7,41,8],[41,9,41,10],[41,11,41,12],[41,13,41,14],[41,15,41,16],[41,17,41,18],[41,19,41,20],[40,21,40,22],[40,23,40,24],[40,25,40,26],[40,33,40,34],[40,29,40,30],[40,31,40,32],[39,35,39,36],[40,3,40,4],[40,5,40,6],[40,7,40,8],[40,9,40,10],[40,11,40,12],[40,13,40,14],[40,15,40,16],[40,17,40,18],[40,19,40,20],[39,21,39,22],[39,23,39,24],[39,27,39,28],[39,33,39,34],[39,25,39,26],[39,29,39,30],[39,31,39,32],[38,35,38,36],[39,3,39,4],[39,5,39,6],[39,7,39,8],[39,9,39,10],[39,11,39,12],[39,13,39,14],[39,15,39,16],[39,17,39,18],[39,19,39,20],[37,35,37,36],[38,3,38,4],[38,5,38,6],[38,7,38,8],[38,9,38,10],[38,11,38,12],[38,13,38,14],[38,15,38,16],[38,31,38,32],[38,33,38,34],[38,17,38,18],[38,19,38,20],[37,27,37,28],[37,29,37,30],[37,25,37,26],[38,27,38,28],[38,29,38,30],[37,21,37,22],[38,23,38,24],[38,21,38,22],[37,31,37,32],[37,33,37,34],[36,35,36,36],[37,3,37,4],[37,5,37,6],[37,7,37,8],[37,9,37,10],[37,11,37,12],[37,13,37,14],[37,15,37,16],[36,31,36,32],[35,33,35,34],[35,27,35,28],[35,29,35,30],[35,31,35,32],[36,33,36,34],[35,35,35,36],[36,3,36,4],[36,5,36,6],[36,7,36,8],[36,9,36,10],[36,11,36,12],[36,13,36,14],[36,15,36,16],[36,17,36,18],[35,25,35,26],[34,33,34,34],[34,35,34,36],[35,3,35,4],[35,5,35,6],[35,7,35,8],[35,9,35,10],[35,11,35,12],[35,13,35,14],[35,15,35,16],[35,19,35,20],[34,21,34,22],[34,23,34,24],[34,25,34,26],[34,27,34,28],[34,29,34,30],[34,31,34,32],[32,15,32,16],[32,17,32,18],[32,19,32,20],[34,9,34,10],[34,11,34,12],[34,13,34,14],[34,17,34,18],[34,19,34,20],[32,11,32,12],[33,13,33,14],[31,23,31,24],[31,25,31,26],[31,27,31,28],[31,33,31,34],[31,35,31,36],[32,3,32,4],[32,5,32,6],[32,7,32,8],[32,9,32,10],[32,13,32,14],[31,3,31,4],[31,5,31,6],[31,7,31,8],[31,11,31,12],[31,9,31,10],[31,21,31,22],[30,35,30,36],[30,29,30,30],[30,33,30,34],[30,3,30,4],[30,11,30,12],[30,15,30,16],[30,19,30,20],[30,13,30,14],[30,17,30,18],[30,7,30,8],[33,27,33,28],[32,31,32,32],[32,33,32,34],[30,25,30,26],[32,25,32,26],[32,27,32,28],[30,27,30,28],[30,31,30,32],[31,29,31,30],[31,31,31,32],[33,25,33,26],[32,29,32,30],[32,35,32,36],[33,3,33,4],[33,5,33,6],[33,7,33,8],[33,9,33,10],[33,11,33,12],[33,15,33,16],[33,17,33,18],[31,15,31,16],[30,21,30,22],[33,21,33,22],[33,23,33,24],[33,19,33,20],[32,21,32,22],[32,23,32,24],[30,23,30,24],[31,17,31,18],[31,19,31,20],[33,35,33,36],[30,5,30,6],[34,3,34,4],[34,5,34,6],[34,7,34,8],[31,13,31,14],[33,29,33,30],[30,9,30,10],[33,31,33,32],[33,33,33,34],[29,27,29,28],[29,29,29,30],[29,31,29,32],[29,33,29,34],[29,35,29,36],[12,9,12,10],[13,11,13,12],[14,13,14,14],[15,15,15,16],[29,15,29,16],[29,17,29,18],[29,19,29,20],[29,21,29,22],[29,23,29,24],[29,25,29,26],[28,29,28,30],[28,31,28,32],[28,33,28,34],[28,35,28,36],[29,3,29,4],[29,7,29,8],[29,9,29,10],[29,11,29,12],[29,5,29,6],[29,13,29,14],[28,17,28,18],[28,19,28,20],[28,21,28,22],[28,23,28,24],[28,25,28,26],[28,27,28,28],[27,17,27,18],[27,19,27,20],[27,33,27,34],[27,35,27,36],[28,5,28,6],[28,7,28,8],[28,9,28,10],[28,11,28,12],[28,13,28,14],[28,15,28,16],[27,5,27,6],[27,7,27,8],[27,9,27,10],[27,11,27,12],[27,13,27,14],[27,15,27,16],[16,17,16,18],[17,19,17,20],[18,21,18,22],[19,23,19,24],[24,33,24,34],[25,35,25,36],[35,23,35,24],[36,21,36,22],[36,23,36,24],[37,17,37,18],[37,19,37,20],[37,23,37,24],[36,19,36,20],[35,21,35,22],[7,33,7,34],[7,35,7,36],[10,5,10,6],[11,7,11,8],[7,17,7,18],[7,19,7,20],[7,21,7,22],[7,23,7,24],[7,9,7,10],[7,11,7,12],[22,29,22,30],[23,31,23,32],[27,21,27,22],[27,23,27,24],[27,25,27,26],[27,27,27,28],[7,5,7,6],[7,7,7,8],[27,29,27,30],[27,31,27,32],[7,25,7,26],[7,27,7,28],[7,29,7,30],[7,31,7,32],[20,25,20,26],[21,27,21,28],[28,1,28,2],[27,3,27,4],[27,1,27,2],[28,3,28,4],[7,13,7,14],[7,15,7,16],[8,1,8,2],[9,3,9,4],[7,1,7,2],[7,3,7,4],[33,1,33,2],[34,1,34,2],[35,1,35,2],[36,1,36,2],[29,1,29,2],[30,1,30,2],[31,1,31,2],[32,1,32,2],[41,1,41,2],[42,1,42,2],[43,1,43,2],[44,1,44,2],[37,1,37,2],[38,1,38,2],[39,1,39,2],[40,1,40,2],[45,9,45,10],[45,11,45,12],[45,13,45,14],[45,15,45,16],[45,1,45,2],[45,3,45,4],[45,5,45,6],[45,7,45,8],[45,25,45,26],[45,27,45,28],[45,29,45,30],[45,31,45,32],[45,17,45,18],[45,19,45,20],[45,21,45,22],[45,23,45,24],[45,33,45,34],[45,35,45,36],[46,1,46,2],[46,3,46,4],[46,5,46,6],[46,7,46,8],[46,9,46,10],[46,11,46,12],[46,13,46,14],[46,15,46,16],[46,25,46,26],[46,27,46,28],[46,29,46,30],[46,31,46,32],[46,17,46,18],[46,19,46,20],[46,21,46,22],[46,23,46,24],[46,33,46,34],[46,35,46,36],[47,1,47,2],[47,3,47,4],[47,5,47,6],[47,7,47,8],[47,9,47,10],[47,11,47,12],[47,13,47,14],[47,15,47,16],[48,13,48,14],[48,15,48,16],[47,25,47,26],[47,27,47,28],[47,29,47,30],[47,31,47,32],[47,17,47,18],[47,19,47,20],[47,21,47,22],[47,23,47,24],[48,1,48,2],[48,3,48,4],[48,5,48,6],[48,7,48,8],[48,9,48,10],[48,11,48,12],[48,17,48,18],[48,19,48,20],[48,21,48,22],[48,23,48,24],[47,33,47,34],[47,35,47,36],[48,33,48,34],[48,35,48,36],[48,25,48,26],[48,27,48,28],[48,29,48,30],[48,31,48,32]]}
["uitslag","punten"]
["winst",3]
["gelijkspel",1]
["verlies",0]
[]
[null,"uit\n→"]
[]
["thuis ↓",{"$f":"A9","v":"ADO"},null,{"$f":"A10","v":"AJAX"},null,{"$f":"A11","v":"AZ"},null,{"$f":"A12","v":"Cambuur"},null,{"$f":"A13","v":"Dordrecht"},null,{"$f":"A14","v":"Excelsior"},null,{"$f":"A15","v":"Feijenoord"},null,{"$f":"A16","v":"Go Ahead"},null,{"$f":"A17","v":"Groningen"},null,{"$f":"A18","v":"Heerenveen"},null,{"$f":"A19","v":"Heracles"},null,{"$f":"A20","v":"NAC"},null,{"$f":"A21","v":"PEC Zwolle"},null,{"$f":"A22","v":"PSV"},null,{"$f":"A23","v":"Twente"},null,{"$f":"A24","v":"Utrecht"},null,{"$f":"A25","v":"Vitesse"},null,{"$f":"A26","v":"Willem II"},null,null,null,null,null,null,null,null,null,null,null,null,null,null,null,null,null,null,null,null,"thuispunten","thuisgoals voor","thuisgoals tegen","thuiswedstrijden","thuis gewonnen","thuis gelijk","thuis verloren"]
["ADO",null,null,null,null,null,null,null,null,null,null,null,null,null,null,null,null,null,null,null,null,null,null,null,null,null,null,null,null,null,null,null,null,null,null,null,null,null,null,{"$f":"IF(AND(ISNUMBER(D9),ISNUMBER(E9)),IF(D9>E9,$B$2,IF(D9=E9,$B$3,$B$4)),\"\")","v":""},{"$f":"IF(AND(ISNUMBER(F9),ISNUMBER(G9)),IF(F9>G9,$B$2,IF(F9=G9,$B$3,$B$4)),\"\")","v":""},{"$f":"IF(AND(ISNUMBER(H9),ISNUMBER(I9)),IF(H9>I9,$B$2,IF(H9=I9,$B$3,$B$4)),\"\")","v":""},{"$f":"IF(AND(ISNUMBER(J9),ISNUMBER(K9)),IF(J9>K9,$B$2,IF(J9=K9,$B$3,$B$4)),\"\")","v":""},{"$f":"IF(AND(ISNUMBER(L9),ISNUMBER(M9)),IF(L9>M9,$B$2,IF(L9=M9,$B$3,$B$4)),\"\")","v":""},{"$f":"IF(AND(ISNUMBER(N9),ISNUMBER(O9)),IF(N9>O9,$B$2,IF(N9=O9,$B$3,$B$4)),\"\")","v":""},{"$f":"IF(AND(ISNUMBER(P9),ISNUMBER(Q9)),IF(P9>Q9,$B$2,IF(P9=Q9,$B$3,$B$4)),\"\")","v":""},{"$f":"IF(AND(ISNUMBER(R9),ISNUMBER(S9)),IF(R9>S9,$B$2,IF(R9=S9,$B$3,$B$4)),\"\")","v":""},{"$f":"IF(AND(ISNUMBER(T9),ISNUMBER(U9)),IF(T9>U9,$B$2,IF(T9=U9,$B$3,$B$4)),\"\")","v":""},{"$f":"IF(AND(ISNUMBER(V9),ISNUMBER(W9)),IF(V9>W9,$B$2,IF(V9=W9,$B$3,$B$4)),\"\")","v":""},{"$f":"IF(AND(ISNUMBER(X9),ISNUMBER(Y9)),IF(X9>Y9,$B$2,IF(X9=Y9,$B$3,$B$4)),\"\")","v":""},{"$f":"IF(AND(ISNUMBER(Z9),ISNUMBER(AA9)),IF(Z9>AA9,$B$2,IF(Z9=AA9,$B$3,$B$4)),\"\")","v":""},{"$f":"IF(AND(ISNUMBER(AB9),ISNUMBER(AC9)),IF(AB9>AC9,$B$2,IF(AB9=AC9,$B$3,$B$4)),\"\")","v":""},{"$f":"IF(AND(ISNUMBER(AD9),ISNUMBER(AE9)),IF(AD9>AE9,$B$2,IF(AD9=AE9,$B$3,$B$4)),\"\")","v":""},{"$f":"IF(AND(ISNUMBER(AF9),ISNUMBER(AG9)),IF(AF9>AG9,$B$2,IF(AF9=AG9,$B$3,$B$4)),\"\")","v":""},{"$f":"IF(AND(ISNUMBER(AH9),ISNUMBER(AI9)),IF(AH9>AI9,$B$2,IF(AH9=AI9,$B$3,$B$4)),\"\")","v":""},{"$f":"IF(AND(ISNUMBER(AJ9),ISNUMBER(AK9)),IF(AJ9>AK9,$B$2,IF(AJ9=AK9,$B$3,$B$4)),\"\")","v":""},{"$f":"SUM(AM9:BD9)","v":0},{"$f":"D9+F9+H9+J9+L9+N9+P9+R9+T9+V9+X9+Z9+AB9+AD9+AF9+AH9+AJ9","v":0},{"$f":"E9+G9+I9+K9+M9+O9+Q9+S9+U9+W9+Y9+AA9+AC9+AE9+AG9+AI9+AK9","v":0},{"$f":"COUNT(B9:AK9)/2","v":0},{"$f":"COUNTIF(AM9:BD9,$B$2)","v":0},{"$f":"COUNTIF(AM9:BD9,$B$3)","v":0},{"$f":"COUNTIF(AM9:BD9,0)","v":0}]
["AJAX",null,null,null,null,null,null,null,null,null,null,null,null,null,null,null,null,null,null,null,null,null,null,null,null,null,null,null,null,null,null,null,null,null,null,null,null,null,{"$f":"IF(AND(ISNUMBER(B10),ISNUMBER(C10)),IF(B10>C10,$B$2,IF(B10=C10,$B$3,$B$4)),\"\")","v":""},null,{"$f":"IF(AND(ISNUMBER(F10),ISNUMBER(G10)),IF(F10>G10,$B$2,IF(F10=G10,$B$3,$B$4)),\"\")","v":""},{"$f":"IF(AND(ISNUMBER(H10),ISNUMBER(I10)),IF(H10>I10,$B$2,IF(H10=I10,$B$3,$B$4)),\"\")","v":""},{"$f":"IF(AND(ISNUMBER(J10),ISNUMBER(K10)),IF(J10>K10,$B$2,IF(J10=K10,$B$3,$B$4)),\"\")","v":""},{"$f":"IF(AND(ISNUMBER(L10),ISNUMBER(M10)),IF(L10>M10,$B$2,IF(L10=M10,$B$3,$B$4)),\"\")","v":""},"","","","","","","","","","","","",{"$f":"SUM(AM10:BD10)","v":0},{"$f":"B10+F10+H10+J10+L10+N10+P10+R10+T10+V10+X10+Z10+AB10+AD10+AF10+AH10+AJ10","v":0},{"$f":"C10+G10+I10+K10+M10+O10+Q10+S10+U10+W10+Y10+AA10+AC10+AE10+AG10+AI10+AK10","v":0},{"$f":"COUNT(B10:AK10)/2","v":0},0,0,{"$f":"COUNTIF(AM10:BD10,0)","v":0}]
["AZ",null,null,null,null,null,null,null,null,null,null,null,null,null,null,null,null,null,null,null,null,null,null,null,null,null,null,null,null,null,null,null,null,null,null,null,null,null,"",{"$f":"IF(AND(ISNUMBER(D11),ISNUMBER(E11)),IF(D11>E11,$B$2,IF(D11=E11,$B$3,$B$4)),\"\")","v":""},null,{"$f":"IF(AND(ISNUMBER(H11),ISNUMBER(I11)),IF(H11>I11,$B$2,IF(H11=I11,$B$3,$B$4)),\"\")","v":""},{"$f":"IF(AND(ISNUMBER(J11),ISNUMBER(K11)),IF(J11>K11,$B$2,IF(J11=K11,$B$3,$B$4)),\"\")","v":""},{"$f":"IF(AND(ISNUMBER(L11),ISNUMBER(M11)),IF(L11>M11,$B$2,IF(L11=M11,$B$3,$B$4)),\"\")","v":""},"","","","","","","","","","","","",0,{"$f":"B11+D11+H11+J11+L11+N11+P11+R11+T11+V11+X11+Z11+AB11+AD11+AF11+AH11+AJ11","v":0},{"$f":"C11+E11+I11+K11+M11+O11+Q11+S11+U11+W11+Y11+AA11+AC11+AE11+AG11+AI11+AK11","v":0},0,0,0,0]
["Cambuur",null,null,null,null,null,null,null,null,null,null,null,null,null,null,null,null,null,null,null,null,null,null,null,null,null,null,null,null,null,null,null,null,null,null,null,null,null,"","",{"$f":"IF(AND(ISNUMBER(F12),ISNUMBER(G12)),IF(F12>G12,$B$2,IF(F12=G12,$B$3,$B$4)),\"\")","v":""},null,{"$f":"IF(AND(ISNUMBER(J12),ISNUMBER(K12)),IF(J12>K12,$B$2,IF(J12=K12,$B$3,$B$4)),\"\")","v":""},{"$f":"IF(AND(ISNUMBER(L12),ISNUMBER(M12)),IF(L12>M12,$B$2,IF(L12=M12,$B$3,$B$4)),\"\")","v":""},"","","","","","","","","","","","",0,{"$f":"B12+D12+F12+J12+L12+N12+P12+R12+T12+V12+X12+Z12+AB12+AD12+AF12+AH12+AJ12","v":0},{"$f":"C12+E12+G12+K12+M12+O12+Q12+S12+U12+W12+Y12+AA12+AC12+AE12+AG12+AI12+AK12","v":0},0,0,0,0]
["Dordrecht",null,null,null,null,null,null,null,null,null,null,null,null,null,null,null,null,null,null,null,null,null,null,null,null,null,null,null,null,null,null,null,null,null,null,null,null,null,"","","",{"$f":"IF(AND(ISNUMBER(H13),ISNUMBER(I13)),IF(H13>I13,$B$2,IF(H13=I13,$B$3,$B$4)),\"\")","v":""},null,{"$f":"IF(AND(ISNUMBER(L13),ISNUMBER(M13)),IF(L13>M13,$B$2,IF(L13=M13,$B$3,$B$4)),\"\")","v":""},"","","","","","","","","","","","",0,{"$f":"B13+D13+F13+H13+L13+N13+P13+R13+T13+V13+X13+Z13+AB13+AD13+AF13+AH13+AJ13","v":0},{"$f":"C13+E13+G13+I13+M13+O13+Q13+S13+U13+W13+Y13+AA13+AC13+AE13+AG13+AI13+AK13","v":0},0,0,0,0]
["Excelsior",null,null,null,null,null,null,null,null,null,null,null,null,null,null,null,null,null,null,null,null,null,null,null,null,null,null,null,null,null,null,null,null,null,null,null,null,null,"","","","",{"$f":"IF(AND(ISNUMBER(J14),ISNUMBER(K14)),IF(J14>K14,$B$2,IF(J14=K14,$B$3,$B$4)),\"\")","v":""},null,"","","","","","","","","","","","",0,{"$f":"B14+D14+F14+H14+J14+N14+P14+R14+T14+V14+X14+Z14+AB14+AD14+AF14+AH14+AJ14","v":0},{"$f":"C14+E14+G14+I14+K14+O14+Q14+S14+U14+W14+Y14+AA14+AC14+AE14+AG14+AI14+AK14","v":0},0,0,0,0]
["Feijenoord",null,null,null,null,null,null,null,null,null,null,null,null,null,null,null,null,null,null,null,null,null,null,null,null,null,null,null,null,null,null,null,null,null,null,null,null,null,"","","","","",{"$f":"IF(AND(ISNUMBER(L15),ISNUMBER(M15)),IF(L15>M15,$B$2,IF(L15=M15,$B$3,$B$4)),\"\")","v":""},null,"","","","","","","","","","","",0,{"$f":"B15+D15+F15+H15+J15+L15+P15+R15+T15+V15+X15+Z15+AB15+AD15+AF15+AH15+AJ15","v":0},{"$f":"C15+E15+G15+I15+K15+M15+Q15+S15+U15+W15+Y15+AA15+AC15+AE15+AG15+AI15+AK15","v":0},0,0,0,0]
["Go Ahead",null,null,null,null,null,null,null,null,null,null,null,null,null,null,null,null,null,null,null,null,null,null,null,null,null,null,null,null,null,null,null,null,null,null,null,null,null,"","","","","","",{"$f":"IF(AND(ISNUMBER(N16),ISNUMBER(O16)),IF(N16>O16,$B$2,IF(N16=O16,$B$3,$B$4)),\"\")","v":""},null,"","","","","","","","","","",0,{"$f":"B16+D16+F16+H16+J16+L16+N16+R16+T16+V16+X16+Z16+AB16+AD16+AF16+AH16+AJ16","v":0},{"$f":"C16+E16+G16+I16+K16+M16+O16+S16+U16+W16+Y16+AA16+AC16+AE16+AG16+AI16+AK16","v":0},0,0,0,0]
["Groningen",null,null,null,null,null,null,null,null,null,null,null,null,null,null,null,null,null,null,null,null,null,null,null,null,null,null,null,null,null,null,null,null,null,null,null,null,null,"","","","","","","",{"$f":"IF(AND(ISNUMBER(P17),ISNUMBER(Q17)),IF(P17>Q17,$B$2,IF(P17=Q17,$B$3,$B$4)),\"\")","v":""},null,"","","","","","","","","",0,{"$f":"B17+D17+F17+H17+J17+L17+N17+P17+T17+V17+X17+Z17+AB17+AD17+AF17+AH17+AJ17","v":0},{"$f":"C17+E17+G17+I17+K17+M17+O17+Q17+U17+W17+Y17+AA17+AC17+AE17+AG17+AI17+AK17","v":0},0,0,0,0]
["Heerenveen",null,null,null,null,null,null,null,null,null,null,null,null,null,null,null,null,null,null,null,null,null,null,null,null,null,null,null,null,null,null,null,null,null,null,null,null,null,"","","","","","","","",{"$f":"IF(AND(ISNUMBER(R18),ISNUMBER(S18)),IF(R18>S18,$B$2,IF(R18=S18,$B$3,$B$4)),\"\")","v":""},null,"","","","","","","","",0,{"$f":"B18+D18+F18+H18+J18+L18+N18+P18+R18+V18+X18+Z18+AB18+AD18+AF18+AH18+AJ18","v":0},{"$f":"C18+E18+G18+I18+K18+M18+O18+Q18+S18+W18+Y18+AA18+AC18+AE18+AG18+AI18+AK18","v":0},0,0,0,0]
["Heracles",null,null,null,null,null,null,null,null,null,null,null,null,null,null,null,null,null,null,null,null,null,null,null,null,null,null,null,null,null,null,null,null,null,null,null,null,null,"","","","","","","","","",{"$f":"IF(AND(ISNUMBER(T19),ISNUMBER(U19)),IF(T19>U19,$B$2,IF(T19=U19,$B$3,$B$4)),\"\")","v":""},null,"","","","","","","",0,{"$f":"B19+D19+F19+H19+J19+L19+N19+P19+R19+T19+X19+Z19+AB19+AD19+AF19+AH19+AJ19","v":0},{"$f":"C19+E19+G19+I19+K19+M19+O19+Q19+S19+U19+Y19+AA19+AC19+AE19+AG19+AI19+AK19","v":0},0,0,0,0]
["NAC",null,null,null,null,null,null,null,null,null,null,null,null,null,null,null,null,null,null,null,null,null,null,null,null,null,null,null,null,null,null,null,null,null,null,null,null,null,"","","","","","","","","","",{"$f":"IF(AND(ISNUMBER(V20),ISNUMBER(W20)),IF(V20>W20,$B$2,IF(V20=W20,$B$3,$B$4)),\"\")","v":""},null,"","","","","","",0,{"$f":"B20+D20+F20+H20+J20+L20+N20+P20+R20+T20+V20+Z20+AB20+AD20+AF20+AH20+AJ20","v":0},{"$f":"C20+E20+G20+I20+K20+M20+O20+Q20+S20+U20+W20+AA20+AC20+AE20+AG20+AI20+AK20","v":0},0,0,0,0]
["PEC Zwolle",null,null,null,null,null,null,null,null,null,null,null,null,null,null,null,null,null,null,null,null,null,null,null,null,null,null,null,null,null,null,null,null,null,null,null,null,null,"","","","","","","","","","","",{"$f":"IF(AND(ISNUMBER(X21),ISNUMBER(Y21)),IF(X21>Y21,$B$2,IF(X21=Y21,$B$3,$B$4)),\"\")","v":""},null,"","","","","",0,{"$f":"B21+D21+F21+H21+J21+L21+N21+P21+R21+T21+V21+X21+AB21+AD21+AF21+AH21+AJ21","v":0},{"$f":"C21+E21+G21+I21+K21+M21+O21+Q21+S21+U21+W21+Y21+AC21+AE21+AG21+AI21+AK21","v":0},0,0,0,0]
["PSV",null,null,null,null,null,null,null,null,null,null,null,null,null,null,null,null,null,null,null,null,null,null,null,null,null,null,null,null,null,null,null,null,null,null,null,null,null,"","","","","","","","","","","","",{"$f":"IF(AND(ISNUMBER(Z22),ISNUMBER(AA22)),IF(Z22>AA22,$B$2,IF(Z22=AA22,$B$3,$B$4)),\"\")","v":""},null,"","","","",0,{"$f":"B22+D22+F22+H22+J22+L22+N22+P22+R22+T22+V22+X22+Z22+AD22+AF22+AH22+AJ22","v":0},{"$f":"C22+E22+G22+I22+K22+M22+O22+Q22+S22+U22+W22+Y22+AA22+AE22+AG22+AI22+AK22","v":0},0,0,0,0]
["Twente",null,null,null,null,null,null,null,null,null,null,null,null,null,null,null,null,null,null,null,null,null,null,null,null,null,null,null,null,null,null,null,null,null,null,null,null,null,"","","","","","","","","","","","",{"$f":"IF(AND(ISNUMBER(Z23),ISNUMBER(AA23)),IF(Z23>AA23,$B$2,IF(Z23=AA23,$B$3,$B$4)),\"\")","v":""},{"$f":"IF(AND(ISNUMBER(AB23),ISNUMBER(AC23)),IF(AB23>AC23,$B$2,IF(AB23=AC23,$B$3,$B$4)),\"\")","v":""},null,"","","",0,{"$f":"B23+D23+F23+H23+J23+L23+N23+P23+R23+T23+V23+X23+Z23+AB23+AF23+AH23+AJ23","v":0},{"$f":"C23+E23+G23+I23+K23+M23+O23+Q23+S23+U23+W23+Y23+AA23+AC23+AG23+AI23+AK23","v":0},0,0,0,0]
["Utrecht",null,null,null,null,null,null,null,null,null,null,null,null,null,null,null,null,null,null,null,null,null,null,null,null,null,null,null,null,null,null,null,null,null,null,null,null,null,"","","","","","","","","","","","",{"$f":"IF(AND(ISNUMBER(Z24),ISNUMBER(AA24)),IF(Z24>AA24,$B$2,IF(Z24=AA24,$B$3,$B$4)),\"\")","v":""},{"$f":"IF(AND(ISNUMBER(AB24),ISNUMBER(AC24)),IF(AB24>AC24,$B$2,IF(AB24=AC24,$B$3,$B$4)),\"\")","v":""},{"$f":"IF(AND(ISNUMBER(AD24),ISNUMBER(AE24)),IF(AD24>AE24,$B$2,IF(AD24=AE24,$B$3,$B$4)),\"\")","v":""},null,"","",0,{"$f":"B24+D24+F24+H24+J24+L24+N24+P24+R24+T24+V24+X24+Z24+AB24+AD24+AH24+AJ24","v":0},{"$f":"C24+E24+G24+I24+K24+M24+O24+Q24+S24+U24+W24+Y24+AA24+AC24+AE24+AI24+AK24","v":0},0,0,0,0]
["Vitesse",null,null,null,null,null,null,null,null,null,null,null,null,null,null,null,null,null,null,null,null,null,null,null,null,null,null,null,null,null,null,null,null,null,null,null,null,null,"","","","","","","","","","","","",{"$f":"IF(AND(ISNUMBER(Z25),ISNUMBER(AA25)),IF(Z25>AA25,$B$2,IF(Z25=AA25,$B$3,$B$4)),\"\")","v":""},{"$f":"IF(AND(ISNUMBER(AB25),ISNUMBER(AC25)),IF(AB25>AC25,$B$2,IF(AB25=AC25,$B$3,$B$4)),\"\")","v":""},{"$f":"IF(AND(ISNUMBER(AD25),ISNUMBER(AE25)),IF(AD25>AE25,$B$2,IF(AD25=AE25,$B$3,$B$4)),\"\")","v":""},{"$f":"IF(AND(ISNUMBER(AF25),ISNUMBER(AG25)),IF(AF25>AG25,$B$2,IF(AF25=AG25,$B$3,$B$4)),\"\")","v":""},null,"",0,{"$f":"B25+D25+F25+H25+J25+L25+N25+P25+R25+T25+V25+X25+Z25+AB25+AD25+AF25+AJ25","v":0},{"$f":"C25+E25+G25+I25+K25+M25+O25+Q25+S25+U25+W25+Y25+AA25+AC25+AE25+AG25+AK25","v":0},0,0,0,0]
["Willem II",null,null,null,null,null,null,null,null,null,null,null,null,null,null,null,null,null,null,null,null,null,null,null,null,null,null,null,null,null,null,null,null,null,null,null,null,null,"","","","","","","","","","","","",{"$f":"IF(AND(ISNUMBER(Z26),ISNUMBER(AA26)),IF(Z26>AA26,$B$2,IF(Z26=AA26,$B$3,$B$4)),\"\")","v":""},{"$f":"IF(AND(ISNUMBER(AB26),ISNUMBER(AC26)),IF(AB26>AC26,$B$2,IF(AB26=AC26,$B$3,$B$4)),\"\")","v":""},{"$f":"IF(AND(ISNUMBER(AD26),ISNUMBER(AE26)),IF(AD26>AE26,$B$2,IF(AD26=AE26,$B$3,$B$4)),\"\")","v":""},{"$f":"IF(AND(ISNUMBER(AF26),ISNUMBER(AG26)),IF(AF26>AG26,$B$2,IF(AF26=AG26,$B$3,$B$4)),\"\")","v":""},{"$f":"IF(AND(ISNUMBER(AH26),ISNUMBER(AI26)),IF(AH26>AI26,$B$2,IF(AH26=AI26,$B$3,$B$4)),\"\")","v":""},null,0,{"$f":"B26+D26+F26+H26+J26+L26+N26+P26+R26+T26+V26+X26+Z26+AB26+AD26+AF26+AH26","v":0},{"$f":"C26+E26+G26+I26+K26+M26+O26+Q26+S26+U26+W26+Y26+AA26+AC26+AE26+AG26+AI26","v":0},0,0,0,0]
[]
[null,null,null,{"$f":"IF(AND(ISNUMBER(D9),ISNUMBER(E9)),IF(E9>D9,$B$2,IF(D9=E9,$B$3,0)),\"\")","v":""},null,{"$f":"IF(AND(ISNUMBER(F9),ISNUMBER(G9)),IF(G9>F9,$B$2,IF(F9=G9,$B$3,0)),\"\")","v":""},null,{"$f":"IF(AND(ISNUMBER(H9),ISNUMBER(I9)),IF(I9>H9,$B$2,IF(H9=I9,$B$3,0)),\"\")","v":""},null,{"$f":"IF(AND(ISNUMBER(J9),ISNUMBER(K9)),IF(K9>J9,$B$2,IF(J9=K9,$B$3,0)),\"\")","v":""},null,{"$f":"IF(AND(ISNUMBER(L9),ISNUMBER(M9)),IF(M9>L9,$B$2,IF(L9=M9,$B$3,0)),\"\")","v":""},null,{"$f":"IF(AND(ISNUMBER(N9),ISNUMBER(O9)),IF(O9>N9,$B$2,IF(N9=O9,$B$3,0)),\"\")","v":""},null,{"$f":"IF(AND(ISNUMBER(P9),ISNUMBER(Q9)),IF(Q9>P9,$B$2,IF(P9=Q9,$B$3,0)),\"\")","v":""},null,{"$f":"IF(AND(ISNUMBER(R9),ISNUMBER(S9)),IF(S9>R9,$B$2,IF(R9=S9,$B$3,0)),\"\")","v":""},null,{"$f":"IF(AND(ISNUMBER(T9),ISNUMBER(U9)),IF(U9>T9,$B$2,IF(T9=U9,$B$3,0)),\"\")","v":""},null,{"$f":"IF(AND(ISNUMBER(V9),ISNUMBER(W9)),IF(W9>V9,$B$2,IF(V9=W9,$B$3,0)),\"\")","v":""},null,{"$f":"IF(AND(ISNUMBER(X9),ISNUMBER(Y9)),IF(Y9>X9,$B$2,IF(X9=Y9,$B$3,0)),\"\")","v":""},null,{"$f":"IF(AND(ISNUMBER(Z9),ISNUMBER(AA9)),IF(AA9>Z9,$B$2,IF(Z9=AA9,$B$3,0)),\"\")","v":""},null,{"$f":"IF(AND(ISNUMBER(AB9),ISNUMBER(AC9)),IF(AC9>AB9,$B$2,IF(AB9=AC9,$B$3,0)),\"\")","v":""},null,{"$f":"IF(AND(ISNUMBER(AD9),ISNUMBER(AE9)),IF(AE9>AD9,$B$2,IF(AD9=AE9,$B$3,0)),\"\")","v":""},null,{"$f":"IF(AND(ISNUMBER(AF9),ISNUMBER(AG9)),IF(AG9>AF9,$B$2,IF(AF9=AG9,$B$3,0)),\"\")","v":""},null,{"$f":"IF(AND(ISNUMBER(AH9),ISNUMBER(AI9)),IF(AI9>AH9,$B$2,IF(AH9=AI9,$B$3,0)),\"\")","v":""},null,{"$f":"IF(AND(ISNUMBER(AJ9),ISNUMBER(AK9)),IF(AK9>AJ9,$B$2,IF(AJ9=AK9,$B$3,0)),\"\")","v":""}]
[null,{"$f":"IF(AND(ISNUMBER(B10),ISNUMBER(C10)),IF(C10>B10,$B$2,IF(B10=C10,$B$3,0)),\"\")","v":""},null,null,null,{"$f":"IF(AND(ISNUMBER(F10),ISNUMBER(G10)),IF(G10>F10,$B$2,IF(F10=G10,$B$3,0)),\"\")","v":""},null,{"$f":"IF(AND(ISNUMBER(H10),ISNUMBER(I10)),IF(I10>H10,$B$2,IF(H10=I10,$B$3,0)),\"\")","v":""},null,{"$f":"IF(AND(ISNUMBER(J10),ISNUMBER(K10)),IF(K10>J10,$B$2,IF(J10=K10,$B$3,0)),\"\")","v":""},null,{"$f":"IF(AND(ISNUMBER(L10),ISNUMBER(M10)),IF(M10>L10,$B$2,IF(L10=M10,$B$3,0)),\"\")","v":""},null,"",null,"",null,"",null,"",null,"",null,"",null,"",null,"",null,"",null,"",null,"",null,""]
[null,"",null,{"$f":"IF(AND(ISNUMBER(D11),ISNUMBER(E11)),IF(E11>D11,$B$2,IF(D11=E11,$B$3,0)),\"\")","v":""},null,null,null,{"$f":"IF(AND(ISNUMBER(H11),ISNUMBER(I11)),IF(I11>H11,$B$2,IF(H11=I11,$B$3,0)),\"\")","v":""},null,{"$f":"IF(AND(ISNUMBER(J11),ISNUMBER(K11)),IF(K11>J11,$B$2,IF(J11=K11,$B$3,0)),\"\")","v":""},null,{"$f":"IF(AND(ISNUMBER(L11),ISNUMBER(M11)),IF(M11>L11,$B$2,IF(L11=M11,$B$3,0)),\"\")","v":""},null,"",null,"",null,"",null,"",null,"",null,"",null,"",null,"",null,"",null,"",null,"",null,""]
[null,"",null,"",null,{"$f":"IF(AND(ISNUMBER(F12),ISNUMBER(G12)),IF(G12>F12,$B$2,IF(F12=G12,$B$3,0)),\"\")","v":""},null,null,null,{"$f":"IF(AND(ISNUMBER(J12),ISNUMBER(K12)),IF(K12>J12,$B$2,IF(J12=K12,$B$3,0)),\"\")","v":""},null,{"$f":"IF(AND(ISNUMBER(L12),ISNUMBER(M12)),IF(M12>L12,$B$2,IF(L12=M12,$B$3,0)),\"\")","v":""},null,"",null,"",null,"",null,"",null,"",null,"",null,"",null,"",null,"",null,"",null,"",null,""]
[null,"",null,"",null,"",null,{"$f":"IF(AND(ISNUMBER(H13),ISNUMBER(I13)),IF(I13>H13,$B$2,IF(H13=I13,$B$3,0)),\"\")","v":""},null,null,null,{"$f":"IF(AND(ISNUMBER(L13),ISNUMBER(M13)),IF(M13>L13,$B$2,IF(L13=M13,$B$3,0)),\"\")","v":""},null,"",null,"",null,"",null,"",null,"",null,"",null,"",null,"",null,"",null,"",null,"",null,""]
[null,"",null,"",null,"",null,"",null,{"$f":"IF(AND(ISNUMBER(J14),ISNUMBER(K14)),IF(K14>J14,$B$2,IF(J14=K14,$B$3,0)),\"\")","v":""},null,null,null,"",null,"",null,"",null,"",null,"",null,"",null,"",null,"",null,"",null,"",null,"",null,""]
[null,"",null,"",null,"",null,"",null,"",null,{"$f":"IF(AND(ISNUMBER(L15),ISNUMBER(M15)),IF(M15>L15,$B$2,IF(L15=M15,$B$3,0)),\"\")","v":""},null,null,null,"",null,"",null,"",null,"",null,"",null,"",null,"",null,"",null,"",null,"",null,""]
[null,"",null,"",null,"",null,"",null,"",null,"",null,{"$f":"IF(AND(ISNUMBER(N16),ISNUMBER(O16)),IF(O16>N16,$B$2,IF(N16=O16,$B$3,0)),\"\")","v":""},null,null,null,"",null,"",null,"",null,"",null,"",null,"",null,"",null,"",null,"",null,""]
[null,"",null,"",null,"",null,"",null,"",null,"",null,"",null,{"$f":"IF(AND(ISNUMBER(P17),ISNUMBER(Q17)),IF(Q17>P17,$B$2,IF(P17=Q17,$B$3,0)),\"\")","v":""},null,null,null,"",null,"",null,"",null,"",null,"",null,"",null,"",null,"",null,""]
[null,"",null,"",null,"",null,"",null,"",null,"",null,"",null,"",null,{"$f":"IF(AND(ISNUMBER(R18),ISNUMBER(S18)),IF(S18>R18,$B$2,IF(R18=S18,$B$3,0)),\"\")","v":""},null,null,null,"",null,"",null,"",null,"",null,"",null,"",null,"",null,""]
[null,"",null,"",null,"",null,"",null,"",null,"",null,"",null,"",null,"",null,{"$f":"IF(AND(ISNUMBER(T19),ISNUMBER(U19)),IF(U19>T19,$B$2,IF(T19=U19,$B$3,0)),\"\")","v":""},null,null,null,"",null,"",null,"",null,"",null,"",null,"",null,""]
[null,"",null,"",null,"",null,"",null,"",null,"",null,"",null,"",null,"",null,"",null,{"$f":"IF(AND(ISNUMBER(V20),ISNUMBER(W20)),IF(W20>V20,$B$2,IF(V20=W20,$B$3,0)),\"\")","v":""},null,null,null,"",null,"",null,"",null,"",null,"",null,""]
[null,"",null,"",null,"",null,"",null,"",null,"",null,"",null,"",null,"",null,"",null,"",null,{"$f":"IF(AND(ISNUMBER(X21),ISNUMBER(Y21)),IF(Y21>X21,$B$2,IF(X21=Y21,$B$3,0)),\"\")","v":""},null,null,null,"",null,"",null,"",null,"",null,""]
[null,"",null,"",null,"",null,"",null,"",null,"",null,"",null,"",null,"",null,"",null,"",null,"",null,{"$f":"IF(AND(ISNUMBER(Z22),ISNUMBER(AA22)),IF(AA22>Z22,$B$2,IF(Z22=AA22,$B$3,0)),\"\")","v":""},null,null,null,"",null,"",null,"",null,""]
[null,"",null,"",null,"",null,"",null,"",null,"",null,"",null,"",null,"",null,"",null,"",null,"",null,{"$f":"IF(AND(ISNUMBER(Z23),ISNUMBER(AA23)),IF(AA23>Z23,$B$2,IF(Z23=AA23,$B$3,0)),\"\")","v":""},null,{"$f":"IF(AND(ISNUMBER(AB23),ISNUMBER(AC23)),IF(AC23>AB23,$B$2,IF(AB23=AC23,$B$3,0)),\"\")","v":""},null,null,null,"",null,"",null,""]
[null,"",null,"",null,"",null,"",null,"",null,"",null,"",null,"",null,"",null,"",null,"",null,"",null,{"$f":"IF(AND(ISNUMBER(Z24),ISNUMBER(AA24)),IF(AA24>Z24,$B$2,IF(Z24=AA24,$B$3,0)),\"\")","v":""},null,{"$f":"IF(AND(ISNUMBER(AB24),ISNUMBER(AC24)),IF(AC24>AB24,$B$2,IF(AB24=AC24,$B$3,0)),\"\")","v":""},null,{"$f":"IF(AND(ISNUMBER(AD24),ISNUMBER(AE24)),IF(AE24>AD24,$B$2,IF(AD24=AE24,$B$3,0)),\"\")","v":""},null,null,null,"",null,""]
[null,"",null,"",null,"",null,"",null,"",null,"",null,"",null,"",null,"",null,"",null,"",null,"",null,{"$f":"IF(AND(ISNUMBER(Z25),ISNUMBER(AA25)),IF(AA25>Z25,$B$2,IF(Z25=AA25,$B$3,0)),\"\")","v":""},null,{"$f":"IF(AND(ISNUMBER(AB25),ISNUMBER(AC25)),IF(AC25>AB25,$B$2,IF(AB25=AC25,$B$3,0)),\"\")","v":""},null,{"$f":"IF(AND(ISNUMBER(AD25),ISNUMBER(AE25)),IF(AE25>AD25,$B$2,IF(AD25=AE25,$B$3,0)),\"\")","v":""},null,{"$f":"IF(AND(ISNUMBER(AF25),ISNUMBER(AG25)),IF(AG25>AF25,$B$2,IF(AF25=AG25,$B$3,0)),\"\")","v":""},null,null,null,""]
[null,"",null,"",null,"",null,"",null,"",null,"",null,"",null,"",null,"",null,"",null,"",null,"",null,{"$f":"IF(AND(ISNUMBER(Z26),ISNUMBER(AA26)),IF(AA26>Z26,$B$2,IF(Z26=AA26,$B$3,0)),\"\")","v":""},null,{"$f":"IF(AND(ISNUMBER(AB26),ISNUMBER(AC26)),IF(AC26>AB26,$B$2,IF(AB26=AC26,$B$3,0)),\"\")","v":""},null,{"$f":"IF(AND(ISNUMBER(AD26),ISNUMBER(AE26)),IF(AE26>AD26,$B$2,IF(AD26=AE26,$B$3,0)),\"\")","v":""},null,{"$f":"IF(AND(ISNUMBER(AF26),ISNUMBER(AG26)),IF(AG26>AF26,$B$2,IF(AF26=AG26,$B$3,0)),\"\")","v":""},null,{"$f":"IF(AND(ISNUMBER(AH26),ISNUMBER(AI26)),IF(AI26>AH26,$B$2,IF(AH26=AI26,$B$3,0)),\"\")","v":""}]
["uitpunten",{"$f":"SUM(B28:C45)","v":0},null,{"$f":"SUM(D28:E45)","v":0},null,{"$f":"SUM(F28:G45)","v":0},null,{"$f":"SUM(H28:I45)","v":0},null,{"$f":"SUM(J28:K45)","v":0},null,{"$f":"SUM(L28:M45)","v":0},null,{"$f":"SUM(N28:O45)","v":0},null,{"$f":"SUM(P28:Q45)","v":0},null,{"$f":"SUM(R28:S45)","v":0},null,{"$f":"SUM(T28:U45)","v":0},null,{"$f":"SUM(V28:W45)","v":0},null,{"$f":"SUM(X28:Y45)","v":0},null,{"$f":"SUM(Z28:AA45)","v":0},null,{"$f":"SUM(AB28:AC45)","v":0},null,{"$f":"SUM(AD28:AE45)","v":0},null,{"$f":"SUM(AF28:AG45)","v":0},null,{"$f":"SUM(AH28:AI45)","v":0},null,{"$f":"SUM(AJ28:AK45)","v":0}]
["uitgoals voor",{"$f":"C10+C11+C12+C13+C14+C15+C16+C17+C18+C19+C20+C21+C22+C23+C24+C25+C26","v":0},null,{"$f":"E9+E11+E12+E13+E14+E15+E16+E17+E18+E19+E20+E21+E22+E23+E24+E25+E26","v":0},null,{"$f":"G9+G10+G12+G13+G14+G15+G16+G17+G18+G19+G20+G21+G22+G23+G24+G25+G26","v":0},null,{"$f":"I9+I10+I11+I13+I14+I15+I16+I17+I18+I19+I20+I21+I22+I23+I24+I25+I26","v":0},null,{"$f":"K9+K10+K11+K12+K14+K15+K16+K17+K18+K19+K20+K21+K22+K23+K24+K25+K26","v":0},null,{"$f":"M9+M10+M11+M12+M13+M15+M16+M17+M18+M19+M20+M21+M22+M23+M24+M25+M26","v":0},null,{"$f":"O9+O10+O11+O12+O13+O14+O16+O17+O18+O19+O20+O21+O22+O23+O24+O25+O26","v":0},null,{"$f":"Q9+Q10+Q11+Q12+Q13+Q14+Q15+Q17+Q18+Q19+Q20+Q21+Q22+Q23+Q24+Q25+Q26","v":0},null,{"$f":"S9+S10+S11+S12+S13+S14+S15+S16+S18+S19+S20+S21+S22+S23+S24+S25+S26","v":0},null,{"$f":"U9+U10+U11+U12+U13+U14+U15+U16+U17+U19+U20+U21+U22+U23+U24+U25+U26","v":0},null,{"$f":"W9+W10+W11+W12+W13+W14+W15+W16+W17+W18+W20+W21+W22+W23+W24+W25+W26","v":0},null,{"$f":"Y9+Y10+Y11+Y12+Y13+Y14+Y15+Y16+Y17+Y18+Y19+Y21+Y22+Y23+Y24+Y25+Y26","v":0},null,{"$f":"AA9+AA10+AA11+AA12+AA13+AA14+AA15+AA16+AA17+AA18+AA19+AA20+AA22+AA23+AA24+AA25+AA26","v":0},null,{"$f":"AC9+AC10+AC11+AC12+AC13+AC14+AC15+AC16+AC17+AC18+AC19+AC20+AC21+AC23+AC24+AC25+AC26","v":0},null,{"$f":"AE9+AE10+AE11+AE12+AE13+AE14+AE15+AE16+AE17+AE18+AE19+AE20+AE21+AE22+AE24+AE25+AE26","v":0},null,{"$f":"AG9+AG10+AG11+AG12+AG13+AG14+AG15+AG16+AG17+AG18+AG19+AG20+AG21+AG22+AG23+AG25+AG26","v":0},null,{"$f":"AI9+AI10+AI11+AI12+AI13+AI14+AI15+AI16+AI17+AI18+AI19+AI20+AI21+AI22+AI23+AI24+AI26","v":0},null,{"$f":"AK9+AK10+AK11+AK12+AK13+AK14+AK15+AK16+AK17+AK18+AK19+AK20+AK21+AK22+AK23+AK24+AK25","v":0}]
["uitgoals tegen",{"$f":"B10+B11+B12+B13+B14+B15+B16+B17+B18+B19+B20+B21+B22+B23+B24+B25+B26","v":0},null,{"$f":"D9+D11+D12+D13+D14+D15+D16+D17+D18+D19+D20+D21+D22+D23+D24+D25+D26","v":0},null,{"$f":"F9+F10+F12+F13+F14+F15+F16+F17+F18+F19+F20+F21+F22+F23+F24+F25+F26","v":0},null,{"$f":"H9+H10+H11+H13+H14+H15+H16+H17+H18+H19+H20+H21+H22+H23+H24+H25+H26","v":0},null,{"$f":"J9+J10+J11+J12+J14+J15+J16+J17+J18+J19+J20+J21+J22+J23+J24+J25+J26","v":0},null,{"$f":"L9+L10+L11+L12+L13+L15+L16+L17+L18+L19+L20+L21+L22+L23+L24+L25+L26","v":0},null,{"$f":"N9+N10+N11+N12+N13+N14+N16+N17+N18+N19+N20+N21+N22+N23+N24+N25+N26","v":0},null,{"$f":"P9+P10+P11+P12+P13+P14+P15+P17+P18+P19+P20+P21+P22+P23+P24+P25+P26","v":0},null,{"$f":"R9+R10+R11+R12+R13+R14+R15+R16+R18+R19+R20+R21+R22+R23+R24+R25+R26","v":0},null,{"$f":"T9+T10+T11+T12+T13+T14+T15+T16+T17+T19+T20+T21+T22+T23+T24+T25+T26","v":0},null,{"$f":"V9+V10+V11+V12+V13+V14+V15+V16+V17+V18+V20+V21+V22+V23+V24+V25+V26","v":0},null,{"$f":"X9+X10+X11+X12+X13+X14+X15+X16+X17+X18+X19+X21+X22+X23+X24+X25+X26","v":0},null,{"$f":"Z9+Z10+Z11+Z12+Z13+Z14+Z15+Z16+Z17+Z18+Z19+Z20+Z22+Z23+Z24+Z25+Z26","v":0},null,{"$f":"AB9+AB10+AB11+AB12+AB13+AB14+AB15+AB16+AB17+AB18+AB19+AB20+AB21+AB23+AB24+AB25+AB26","v":0},null,{"$f":"AD9+AD10+AD11+AD12+AD13+AD14+AD15+AD16+AD17+AD18+AD19+AD20+AD21+AD22+AD24+AD25+AD26","v":0},null,{"$f":"AF9+AF10+AF11+AF12+AF13+AF14+AF15+AF16+AF17+AF18+AF19+AF20+AF21+AF22+AF23+AF25+AF26","v":0},null,{"$f":"AH9+AH10+AH11+AH12+AH13+AH14+AH15+AH16+AH17+AH18+AH19+AH20+AH21+AH22+AH23+AH24+AH26","v":0},null,{"$f":"AJ9+AJ10+AJ11+AJ12+AJ13+AJ14+AJ15+AJ16+AJ17+AJ18+AJ19+AJ20+AJ21+AJ22+AJ23+AJ24+AJ25","v":0}]
["uitwedstrijden",{"$f":"COUNT(B9:C26)/2","v":0},null,{"$f":"COUNT(D9:E26)/2","v":0},null,{"$f":"COUNT(F9:G26)/2","v":0},null,{"$f":"COUNT(H9:I26)/2","v":0},null,{"$f":"COUNT(J9:K26)/2","v":0},null,{"$f":"COUNT(L9:M26)/2","v":0},null,{"$f":"COUNT(N9:O26)/2","v":0},null,{"$f":"COUNT(P9:Q26)/2","v":0},null,{"$f":"COUNT(R9:S26)/2","v":0},null,{"$f":"COUNT(T9:U26)/2","v":0},null,{"$f":"COUNT(V9:W26)/2","v":0},null,{"$f":"COUNT(X9:Y26)/2","v":0},null,{"$f":"COUNT(Z9:AA26)/2","v":0},null,{"$f":"COUNT(AB9:AC26)/2","v":0},null,{"$f":"COUNT(AD9:AE26)/2","v":0},null,{"$f":"COUNT(AF9:AG26)/2","v":0},null,{"$f":"COUNT(AH9:AI26)/2","v":0},null,{"$f":"COUNT(AJ9:AK26)/2","v":0}]
["uit gewonnen",{"$f":"COUNTIF(B28:C45,$B$2)","v":0},null,{"$f":"COUNTIF(D28:E45,$B$2)","v":0},null,{"$f":"COUNTIF(F28:G45,$B$2)","v":0},null,{"$f":"COUNTIF(H28:I45,$B$2)","v":0},null,{"$f":"COUNTIF(J28:K45,$B$2)","v":0},null,{"$f":"COUNTIF(L28:M45,$B$2)","v":0},null,{"$f":"COUNTIF(N28:O45,$B$2)","v":0},null,{"$f":"COUNTIF(P28:Q45,$B$2)","v":0},null,{"$f":"COUNTIF(R28:S45,$B$2)","v":0},null,{"$f":"COUNTIF(T28:U45,$B$2)","v":0},null,{"$f":"COUNTIF(V28:W45,$B$2)","v":0},null,{"$f":"COUNTIF(X28:Y45,$B$2)","v":0},null,{"$f":"COUNTIF(Z28:AA45,$B$2)","v":0},null,{"$f":"COUNTIF(AB28:AC45,$B$2)","v":0},null,{"$f":"COUNTIF(AD28:AE45,$B$2)","v":0},null,{"$f":"COUNTIF(AF28:AG45,$B$2)","v":0},null,{"$f":"COUNTIF(AH28:AI45,$B$2)","v":0},null,{"$f":"COUNTIF(AJ28:AK45,$B$2)","v":0}]
["uit gelijk",{"$f":"COUNTIF(B28:C45,$B$3)","v":0},null,{"$f":"COUNTIF(D28:E45,$B$3)","v":0},null,{"$f":"COUNTIF(F28:G45,$B$3)","v":0},null,{"$f":"COUNTIF(H28:I45,$B$3)","v":0},null,{"$f":"COUNTIF(J28:K45,$B$3)","v":0},null,{"$f":"COUNTIF(L28:M45,$B$3)","v":0},null,{"$f":"COUNTIF(N28:O45,$B$3)","v":0},null,{"$f":"COUNTIF(P28:Q45,$B$3)","v":0},null,{"$f":"COUNTIF(R28:S45,$B$3)","v":0},null,{"$f":"COUNTIF(T28:U45,$B$3)","v":0},null,{"$f":"COUNTIF(V28:W45,$B$3)","v":0},null,{"$f":"COUNTIF(X28:Y45,$B$3)","v":0},null,{"$f":"COUNTIF(Z28:AA45,$B$3)","v":0},null,{"$f":"COUNTIF(AB28:AC45,$B$3)","v":0},null,{"$f":"COUNTIF(AD28:AE45,$B$3)","v":0},null,{"$f":"COUNTIF(AF28:AG45,$B$3)","v":0},null,{"$f":"COUNTIF(AH28:AI45,$B$3)","v":0},null,{"$f":"COUNTIF(AJ28:AK45,$B$3)","v":0}]
["uit verlies",{"$f":"COUNTIF(B28:C45,0)","v":0},null,{"$f":"COUNTIF(D28:E45,0)","v":0},null,{"$f":"COUNTIF(F28:G45,0)","v":0},null,{"$f":"COUNTIF(H28:I45,0)","v":0},null,{"$f":"COUNTIF(J28:K45,0)","v":0},null,{"$f":"COUNTIF(L28:M45,0)","v":0},null,{"$f":"COUNTIF(N28:O45,0)","v":0},null,{"$f":"COUNTIF(P28:Q45,0)","v":0},null,{"$f":"COUNTIF(R28:S45,0)","v":0},null,{"$f":"COUNTIF(T28:U45,0)","v":0},null,{"$f":"COUNTIF(V28:W45,0)","v":0},null,{"$f":"COUNTIF(X28:Y45,0)","v":0},null,{"$f":"COUNTIF(Z28:AA45,0)","v":0},null,{"$f":"COUNTIF(AB28:AC45,0)","v":0},null,{"$f":"COUNTIF(AD28:AE45,0)","v":0},null,{"$f":"COUNTIF(AF28:AG45,0)","v":0},null,{"$f":"COUNTIF(AH28:AI45,0)","v":0},null,{"$f":"COUNTIF(AJ28:AK45,0)","v":0}]

{"sheet":"stand","index":1,"n_rows":19,"n_cols":25,"rows_kept":19,"cut":false,"hidden":false,"merged":[]}
[null,"gespeeld","thuis","thuis winst","thuis gelijk","thuis verlies","thuis punten","thuis verlies punten","thuis goals voor","thuis goals tegen","uit","uit winst","uit gelijk","uit verlies","uit punten","uit verlies punten","uit goals voor","uit goals tegen","winst","gelijk","verlies","punten","goals voor","goals tegen","doel saldo"]
[{"$f":"uitslagen!A9","v":"ADO"},{"$f":"C2+K2","v":0},{"$f":"uitslagen!BH10","v":0},{"$f":"uitslagen!BI10","v":0},{"$f":"uitslagen!BJ10","v":0},{"$f":"uitslagen!BK10","v":0},{"$f":"D2*uitslagen!$B$2+E2*uitslagen!$B$3","v":0},{"$f":"F2*uitslagen!$B$2+E2*(uitslagen!$B$2-uitslagen!$B$3)","v":0},{"$f":"uitslagen!BF10","v":0},{"$f":"uitslagen!BG10","v":0},{"$f":"uitslagen!D49","v":0},{"$f":"uitslagen!D50","v":0},{"$f":"uitslagen!D51","v":0},{"$f":"uitslagen!D52","v":0},{"$f":"L2*uitslagen!$B$2+M2*uitslagen!$B$3","v":0},{"$f":"N2*uitslagen!$B$2+M2*(uitslagen!$B$2-uitslagen!$B$3)","v":0},{"$f":"uitslagen!D47","v":0},{"$f":"uitslagen!D48","v":0},{"$f":"D2+L2","v":0},{"$f":"E2+M2","v":0},{"$f":"F2+N2","v":0},{"$f":"G2+O2","v":0},{"$f":"I2+Q2","v":0},{"$f":"J2+R2","v":0},{"$f":"W2-X2","v":0}]
[{"$f":"uitslagen!A10","v":"AJAX"},{"$f":"C3+K3","v":0},{"$f":"uitslagen!BH11","v":0},{"$f":"uitslagen!BI11","v":0},{"$f":"uitslagen!BJ11","v":0},{"$f":"uitslagen!BK11","v":0},{"$f":"D3*uitslagen!$B$2+E3*uitslagen!$B$3","v":0},{"$f":"F3*uitslagen!$B$2+E3*(uitslagen!$B$2-uitslagen!$B$3)","v":0},{"$f":"uitslagen!BF11","v":0},{"$f":"uitslagen!BG11","v":0},{"$f":"uitslagen!F49","v":0},{"$f":"uitslagen!F50","v":0},{"$f":"uitslagen!F51","v":0},{"$f":"uitslagen!F52","v":0},{"$f":"L3*uitslagen!$B$2+M3*uitslagen!$B$3","v":0},{"$f":"N3*uitslagen!$B$2+M3*(uitslagen!$B$2-uitslagen!$B$3)","v":0},{"$f":"uitslagen!F47","v":0},{"$f":"uitslagen!F48","v":0},{"$f":"D3+L3","v":0},{"$f":"E3+M3","v":0},{"$f":"F3+N3","v":0},{"$f":"G3+O3","v":0},{"$f":"I3+Q3","v":0},{"$f":"J3+R3","v":0},{"$f":"W3-X3","v":0}]
[{"$f":"uitslagen!A11","v":"AZ"},{"$f":"C4+K4","v":0},{"$f":"uitslagen!BH18","v":0},{"$f":"uitslagen!BI18","v":0},{"$f":"uitslagen!BJ18","v":0},{"$f":"uitslagen!BK18","v":0},{"$f":"D4*uitslagen!$B$2+E4*uitslagen!$B$3","v":0},{"$f":"F4*uitslagen!$B$2+E4*(uitslagen!$B$2-uitslagen!$B$3)","v":0},{"$f":"uitslagen!BF18","v":0},{"$f":"uitslagen!BG18","v":0},{"$f":"uitslagen!T49","v":0},{"$f":"uitslagen!T50","v":0},{"$f":"uitslagen!T51","v":0},{"$f":"uitslagen!T52","v":0},{"$f":"L4*uitslagen!$B$2+M4*uitslagen!$B$3","v":0},{"$f":"N4*uitslagen!$B$2+M4*(uitslagen!$B$2-uitslagen!$B$3)","v":0},{"$f":"uitslagen!T47","v":0},{"$f":"uitslagen!T48","v":0},{"$f":"D4+L4","v":0},{"$f":"E4+M4","v":0},{"$f":"F4+N4","v":0},{"$f":"G4+O4","v":0},{"$f":"I4+Q4","v":0},{"$f":"J4+R4","v":0},{"$f":"W4-X4","v":0}]
[{"$f":"uitslagen!A12","v":"Cambuur"},{"$f":"C5+K5","v":0},{"$f":"uitslagen!BH13","v":0},{"$f":"uitslagen!BI13","v":0},{"$f":"uitslagen!BJ13","v":0},{"$f":"uitslagen!BK13","v":0},{"$f":"D5*uitslagen!$B$2+E5*uitslagen!$B$3","v":0},{"$f":"F5*uitslagen!$B$2+E5*(uitslagen!$B$2-uitslagen!$B$3)","v":0},{"$f":"uitslagen!BF13","v":0},{"$f":"uitslagen!BG13","v":0},{"$f":"uitslagen!J49","v":0},{"$f":"uitslagen!J50","v":0},{"$f":"uitslagen!J51","v":0},{"$f":"uitslagen!J52","v":0},{"$f":"L5*uitslagen!$B$2+M5*uitslagen!$B$3","v":0},{"$f":"N5*uitslagen!$B$2+M5*(uitslagen!$B$2-uitslagen!$B$3)","v":0},{"$f":"uitslagen!J47","v":0},{"$f":"uitslagen!J48","v":0},{"$f":"D5+L5","v":0},{"$f":"E5+M5","v":0},{"$f":"F5+N5","v":0},{"$f":"G5+O5","v":0},{"$f":"I5+Q5","v":0},{"$f":"J5+R5","v":0},{"$f":"W5-X5","v":0}]
[{"$f":"uitslagen!A13","v":"Dordrecht"},{"$f":"C6+K6","v":0},{"$f":"uitslagen!BH12","v":0},{"$f":"uitslagen!BI12","v":0},{"$f":"uitslagen!BJ12","v":0},{"$f":"uitslagen!BK12","v":0},{"$f":"D6*uitslagen!$B$2+E6*uitslagen!$B$3","v":0},{"$f":"F6*uitslagen!$B$2+E6*(uitslagen!$B$2-uitslagen!$B$3)","v":0},{"$f":"uitslagen!BF12","v":0},{"$f":"uitslagen!BG12","v":0},{"$f":"uitslagen!H49","v":0},{"$f":"uitslagen!H50","v":0},{"$f":"uitslagen!H51","v":0},{"$f":"uitslagen!H52","v":0},{"$f":"L6*uitslagen!$B$2+M6*uitslagen!$B$3","v":0},{"$f":"N6*uitslagen!$B$2+M6*(uitslagen!$B$2-uitslagen!$B$3)","v":0},{"$f":"uitslagen!H47","v":0},{"$f":"uitslagen!H48","v":0},{"$f":"D6+L6","v":0},{"$f":"E6+M6","v":0},{"$f":"F6+N6","v":0},{"$f":"G6+O6","v":0},{"$f":"I6+Q6","v":0},{"$f":"J6+R6","v":0},{"$f":"W6-X6","v":0}]
[{"$f":"uitslagen!A14","v":"Excelsior"},{"$f":"C7+K7","v":0},{"$f":"uitslagen!BH21","v":0},{"$f":"uitslagen!BI21","v":0},{"$f":"uitslagen!BJ21","v":0},{"$f":"uitslagen!BK21","v":0},{"$f":"D7*uitslagen!$B$2+E7*uitslagen!$B$3","v":0},{"$f":"F7*uitslagen!$B$2+E7*(uitslagen!$B$2-uitslagen!$B$3)","v":0},{"$f":"uitslagen!BF21","v":0},{"$f":"uitslagen!BG21","v":0},{"$f":"uitslagen!Z49","v":0},{"$f":"uitslagen!Z50","v":0},{"$f":"uitslagen!Z51","v":0},{"$f":"uitslagen!Z52","v":0},{"$f":"L7*uitslagen!$B$2+M7*uitslagen!$B$3","v":0},{"$f":"N7*uitslagen!$B$2+M7*(uitslagen!$B$2-uitslagen!$B$3)","v":0},{"$f":"uitslagen!Z47","v":0},{"$f":"uitslagen!Z48","v":0},{"$f":"D7+L7","v":0},{"$f":"E7+M7","v":0},{"$f":"F7+N7","v":0},{"$f":"G7+O7","v":0},{"$f":"I7+Q7","v":0},{"$f":"J7+R7","v":0},{"$f":"W7-X7","v":0}]
[{"$f":"uitslagen!A15","v":"Feijenoord"},{"$f":"C8+K8","v":0},{"$f":"uitslagen!BH17","v":0},{"$f":"uitslagen!BI17","v":0},{"$f":"uitslagen!BJ17","v":0},{"$f":"uitslagen!BK17","v":0},{"$f":"D8*uitslagen!$B$2+E8*uitslagen!$B$3","v":0},{"$f":"F8*uitslagen!$B$2+E8*(uitslagen!$B$2-uitslagen!$B$3)","v":0},{"$f":"uitslagen!BF17","v":0},{"$f":"uitslagen!BG17","v":0},{"$f":"uitslagen!R49","v":0},{"$f":"uitslagen!R50","v":0},{"$f":"uitslagen!R51","v":0},{"$f":"uitslagen!R52","v":0},{"$f":"L8*uitslagen!$B$2+M8*uitslagen!$B$3","v":0},{"$f":"N8*uitslagen!$B$2+M8*(uitslagen!$B$2-uitslagen!$B$3)","v":0},{"$f":"uitslagen!R47","v":0},{"$f":"uitslagen!R48","v":0},{"$f":"D8+L8","v":0},{"$f":"E8+M8","v":0},{"$f":"F8+N8","v":0},{"$f":"G8+O8","v":0},{"$f":"I8+Q8","v":0},{"$f":"J8+R8","v":0},{"$f":"W8-X8","v":0}]
[{"$f":"uitslagen!A16","v":"Go Ahead"},{"$f":"C9+K9","v":0},{"$f":"uitslagen!BH9","v":0},{"$f":"uitslagen!BI9","v":0},{"$f":"uitslagen!BJ9","v":0},{"$f":"uitslagen!BK9","v":0},{"$f":"D9*uitslagen!$B$2+E9*uitslagen!$B$3","v":0},{"$f":"F9*uitslagen!$B$2+E9*(uitslagen!$B$2-uitslagen!$B$3)","v":0},{"$f":"uitslagen!BF9","v":0},{"$f":"uitslagen!BG9","v":0},{"$f":"uitslagen!B49","v":0},{"$f":"uitslagen!B50","v":0},{"$f":"uitslagen!B51","v":0},{"$f":"uitslagen!B52","v":0},{"$f":"L9*uitslagen!$B$2+M9*uitslagen!$B$3","v":0},{"$f":"N9*uitslagen!$B$2+M9*(uitslagen!$B$2-uitslagen!$B$3)","v":0},{"$f":"uitslagen!B47","v":0},{"$f":"uitslagen!B48","v":0},{"$f":"D9+L9","v":0},{"$f":"E9+M9","v":0},{"$f":"F9+N9","v":0},{"$f":"G9+O9","v":0},{"$f":"I9+Q9","v":0},{"$f":"J9+R9","v":0},{"$f":"W9-X9","v":0}]
[{"$f":"uitslagen!A17","v":"Groningen"},{"$f":"C10+K10","v":0},{"$f":"uitslagen!BH14","v":0},{"$f":"uitslagen!BI14","v":0},{"$f":"uitslagen!BJ14","v":0},{"$f":"uitslagen!BK14","v":0},{"$f":"D10*uitslagen!$B$2+E10*uitslagen!$B$3","v":0},{"$f":"F10*uitslagen!$B$2+E10*(uitslagen!$B$2-uitslagen!$B$3)","v":0},{"$f":"uitslagen!BF14","v":0},{"$f":"uitslagen!BG14","v":0},{"$f":"uitslagen!L49","v":0},{"$f":"uitslagen!L50","v":0},{"$f":"uitslagen!L51","v":0},{"$f":"uitslagen!L52","v":0},{"$f":"L10*uitslagen!$B$2+M10*uitslagen!$B$3","v":0},{"$f":"N10*uitslagen!$B$2+M10*(uitslagen!$B$2-uitslagen!$B$3)","v":0},{"$f":"uitslagen!L47","v":0},{"$f":"uitslagen!L48","v":0},{"$f":"D10+L10","v":0},{"$f":"E10+M10","v":0},{"$f":"F10+N10","v":0},{"$f":"G10+O10","v":0},{"$f":"I10+Q10","v":0},{"$f":"J10+R10","v":0},{"$f":"W10-X10","v":0}]
[{"$f":"uitslagen!A18","v":"Heerenveen"},{"$f":"C11+K11","v":0},{"$f":"uitslagen!BH16","v":0},{"$f":"uitslagen!BI16","v":0},{"$f":"uitslagen!BJ16","v":0},{"$f":"uitslagen!BK16","v":0},{"$f":"D11*uitslagen!$B$2+E11*uitslagen!$B$3","v":0},{"$f":"F11*uitslagen!$B$2+E11*(uitslagen!$B$2-uitslagen!$B$3)","v":0},{"$f":"uitslagen!BF16","v":0},{"$f":"uitslagen!BG16","v":0},{"$f":"uitslagen!P49","v":0},{"$f":"uitslagen!P50","v":0},{"$f":"uitslagen!P51","v":0},{"$f":"uitslagen!P52","v":0},{"$f":"L11*uitslagen!$B$2+M11*uitslagen!$B$3","v":0},{"$f":"N11*uitslagen!$B$2+M11*(uitslagen!$B$2-uitslagen!$B$3)","v":0},{"$f":"uitslagen!P47","v":0},{"$f":"uitslagen!P48","v":0},{"$f":"D11+L11","v":0},{"$f":"E11+M11","v":0},{"$f":"F11+N11","v":0},{"$f":"G11+O11","v":0},{"$f":"I11+Q11","v":0},{"$f":"J11+R11","v":0},{"$f":"W11-X11","v":0}]
[{"$f":"uitslagen!A19","v":"Heracles"},{"$f":"C12+K12","v":0},{"$f":"uitslagen!BH19","v":0},{"$f":"uitslagen!BI19","v":0},{"$f":"uitslagen!BJ19","v":0},{"$f":"uitslagen!BK19","v":0},{"$f":"D12*uitslagen!$B$2+E12*uitslagen!$B$3","v":0},{"$f":"F12*uitslagen!$B$2+E12*(uitslagen!$B$2-uitslagen!$B$3)","v":0},{"$f":"uitslagen!BF19","v":0},{"$f":"uitslagen!BG19","v":0},{"$f":"uitslagen!V49","v":0},{"$f":"uitslagen!V50","v":0},{"$f":"uitslagen!V51","v":0},{"$f":"uitslagen!V52","v":0},{"$f":"L12*uitslagen!$B$2+M12*uitslagen!$B$3","v":0},{"$f":"N12*uitslagen!$B$2+M12*(uitslagen!$B$2-uitslagen!$B$3)","v":0},{"$f":"uitslagen!V47","v":0},{"$f":"uitslagen!V48","v":0},{"$f":"D12+L12","v":0},{"$f":"E12+M12","v":0},{"$f":"F12+N12","v":0},{"$f":"G12+O12","v":0},{"$f":"I12+Q12","v":0},{"$f":"J12+R12","v":0},{"$f":"W12-X12","v":0}]
[{"$f":"uitslagen!A20","v":"NAC"},{"$f":"C13+K13","v":0},{"$f":"uitslagen!BH20","v":0},{"$f":"uitslagen!BI20","v":0},{"$f":"uitslagen!BJ20","v":0},{"$f":"uitslagen!BK20","v":0},{"$f":"D13*uitslagen!$B$2+E13*uitslagen!$B$3","v":0},{"$f":"F13*uitslagen!$B$2+E13*(uitslagen!$B$2-uitslagen!$B$3)","v":0},{"$f":"uitslagen!BF20","v":0},{"$f":"uitslagen!BG20","v":0},{"$f":"uitslagen!X49","v":0},{"$f":"uitslagen!X50","v":0},{"$f":"uitslagen!X51","v":0},{"$f":"uitslagen!X52","v":0},{"$f":"L13*uitslagen!$B$2+M13*uitslagen!$B$3","v":0},{"$f":"N13*uitslagen!$B$2+M13*(uitslagen!$B$2-uitslagen!$B$3)","v":0},{"$f":"uitslagen!X47","v":0},{"$f":"uitslagen!X48","v":0},{"$f":"D13+L13","v":0},{"$f":"E13+M13","v":0},{"$f":"F13+N13","v":0},{"$f":"G13+O13","v":0},{"$f":"I13+Q13","v":0},{"$f":"J13+R13","v":0},{"$f":"W13-X13","v":0}]
[{"$f":"uitslagen!A21","v":"PEC Zwolle"},{"$f":"C14+K14","v":0},{"$f":"uitslagen!BH22","v":0},{"$f":"uitslagen!BI22","v":0},{"$f":"uitslagen!BJ22","v":0},{"$f":"uitslagen!BK22","v":0},{"$f":"D14*uitslagen!$B$2+E14*uitslagen!$B$3","v":0},{"$f":"F14*uitslagen!$B$2+E14*(uitslagen!$B$2-uitslagen!$B$3)","v":0},{"$f":"uitslagen!BF22","v":0},{"$f":"uitslagen!BG22","v":0},{"$f":"uitslagen!AB49","v":0},{"$f":"uitslagen!AB50","v":0},{"$f":"uitslagen!AB51","v":0},{"$f":"uitslagen!AB52","v":0},{"$f":"L14*uitslagen!$B$2+M14*uitslagen!$B$3","v":0},{"$f":"N14*uitslagen!$B$2+M14*(uitslagen!$B$2-uitslagen!$B$3)","v":0},{"$f":"uitslagen!AB47","v":0},{"$f":"uitslagen!AB48","v":0},{"$f":"D14+L14","v":0},{"$f":"E14+M14","v":0},{"$f":"F14+N14","v":0},{"$f":"G14+O14","v":0},{"$f":"I14+Q14","v":0},{"$f":"J14+R14","v":0},{"$f":"W14-X14","v":0}]
[{"$f":"uitslagen!A22","v":"PSV"},{"$f":"C15+K15","v":0},{"$f":"uitslagen!BH23","v":0},{"$f":"uitslagen!BI23","v":0},{"$f":"uitslagen!BJ23","v":0},{"$f":"uitslagen!BK23","v":0},{"$f":"D15*uitslagen!$B$2+E15*uitslagen!$B$3","v":0},{"$f":"F15*uitslagen!$B$2+E15*(uitslagen!$B$2-uitslagen!$B$3)","v":0},{"$f":"uitslagen!BF23","v":0},{"$f":"uitslagen!BG23","v":0},{"$f":"uitslagen!AD49","v":0},{"$f":"uitslagen!AD50","v":0},{"$f":"uitslagen!AD51","v":0},{"$f":"uitslagen!AD52","v":0},{"$f":"L15*uitslagen!$B$2+M15*uitslagen!$B$3","v":0},{"$f":"N15*uitslagen!$B$2+M15*(uitslagen!$B$2-uitslagen!$B$3)","v":0},{"$f":"uitslagen!AD47","v":0},{"$f":"uitslagen!AD48","v":0},{"$f":"D15+L15","v":0},{"$f":"E15+M15","v":0},{"$f":"F15+N15","v":0},{"$f":"G15+O15","v":0},{"$f":"I15+Q15","v":0},{"$f":"J15+R15","v":0},{"$f":"W15-X15","v":0}]
[{"$f":"uitslagen!A23","v":"Twente"},{"$f":"C16+K16","v":0},{"$f":"uitslagen!BH24","v":0},{"$f":"uitslagen!BI24","v":0},{"$f":"uitslagen!BJ24","v":0},{"$f":"uitslagen!BK24","v":0},{"$f":"D16*uitslagen!$B$2+E16*uitslagen!$B$3","v":0},{"$f":"F16*uitslagen!$B$2+E16*(uitslagen!$B$2-uitslagen!$B$3)","v":0},{"$f":"uitslagen!BF24","v":0},{"$f":"uitslagen!BG24","v":0},{"$f":"uitslagen!AF49","v":0},{"$f":"uitslagen!AF50","v":0},{"$f":"uitslagen!AF51","v":0},{"$f":"uitslagen!AF52","v":0},{"$f":"L16*uitslagen!$B$2+M16*uitslagen!$B$3","v":0},{"$f":"N16*uitslagen!$B$2+M16*(uitslagen!$B$2-uitslagen!$B$3)","v":0},{"$f":"uitslagen!AF47","v":0},{"$f":"uitslagen!AF48","v":0},{"$f":"D16+L16","v":0},{"$f":"E16+M16","v":0},{"$f":"F16+N16","v":0},{"$f":"G16+O16","v":0},{"$f":"I16+Q16","v":0},{"$f":"J16+R16","v":0},{"$f":"W16-X16","v":0}]
[{"$f":"uitslagen!A24","v":"Utrecht"},{"$f":"C17+K17","v":0},{"$f":"uitslagen!BH25","v":0},{"$f":"uitslagen!BI25","v":0},{"$f":"uitslagen!BJ25","v":0},{"$f":"uitslagen!BK25","v":0},{"$f":"D17*uitslagen!$B$2+E17*uitslagen!$B$3","v":0},{"$f":"F17*uitslagen!$B$2+E17*(uitslagen!$B$2-uitslagen!$B$3)","v":0},{"$f":"uitslagen!BF25","v":0},{"$f":"uitslagen!BG25","v":0},{"$f":"uitslagen!AH49","v":0},{"$f":"uitslagen!AH50","v":0},{"$f":"uitslagen!AH51","v":0},{"$f":"uitslagen!AH52","v":0},{"$f":"L17*uitslagen!$B$2+M17*uitslagen!$B$3","v":0},{"$f":"N17*uitslagen!$B$2+M17*(uitslagen!$B$2-uitslagen!$B$3)","v":0},{"$f":"uitslagen!AH47","v":0},{"$f":"uitslagen!AH48","v":0},{"$f":"D17+L17","v":0},{"$f":"E17+M17","v":0},{"$f":"F17+N17","v":0},{"$f":"G17+O17","v":0},{"$f":"I17+Q17","v":0},{"$f":"J17+R17","v":0},{"$f":"W17-X17","v":0}]
[{"$f":"uitslagen!A25","v":"Vitesse"},{"$f":"C18+K18","v":0},{"$f":"uitslagen!BH26","v":0},{"$f":"uitslagen!BI26","v":0},{"$f":"uitslagen!BJ26","v":0},{"$f":"uitslagen!BK26","v":0},{"$f":"D18*uitslagen!$B$2+E18*uitslagen!$B$3","v":0},{"$f":"F18*uitslagen!$B$2+E18*(uitslagen!$B$2-uitslagen!$B$3)","v":0},{"$f":"uitslagen!BF26","v":0},{"$f":"uitslagen!BG26","v":0},{"$f":"uitslagen!AJ49","v":0},{"$f":"uitslagen!AJ50","v":0},{"$f":"uitslagen!AJ51","v":0},{"$f":"uitslagen!AJ52","v":0},{"$f":"L18*uitslagen!$B$2+M18*uitslagen!$B$3","v":0},{"$f":"N18*uitslagen!$B$2+M18*(uitslagen!$B$2-uitslagen!$B$3)","v":0},{"$f":"uitslagen!AJ47","v":0},{"$f":"uitslagen!AJ48","v":0},{"$f":"D18+L18","v":0},{"$f":"E18+M18","v":0},{"$f":"F18+N18","v":0},{"$f":"G18+O18","v":0},{"$f":"I18+Q18","v":0},{"$f":"J18+R18","v":0},{"$f":"W18-X18","v":0}]
[{"$f":"uitslagen!A26","v":"Willem II"},{"$f":"C19+K19","v":0},{"$f":"uitslagen!BH15","v":0},{"$f":"uitslagen!BI15","v":0},{"$f":"uitslagen!BJ15","v":0},{"$f":"uitslagen!BK15","v":0},{"$f":"D19*uitslagen!$B$2+E19*uitslagen!$B$3","v":0},{"$f":"F19*uitslagen!$B$2+E19*(uitslagen!$B$2-uitslagen!$B$3)","v":0},{"$f":"uitslagen!BF15","v":0},{"$f":"uitslagen!BG15","v":0},{"$f":"uitslagen!N49","v":0},{"$f":"uitslagen!N50","v":0},{"$f":"uitslagen!N51","v":0},{"$f":"uitslagen!N52","v":0},{"$f":"L19*uitslagen!$B$2+M19*uitslagen!$B$3","v":0},{"$f":"N19*uitslagen!$B$2+M19*(uitslagen!$B$2-uitslagen!$B$3)","v":0},{"$f":"uitslagen!N47","v":0},{"$f":"uitslagen!N48","v":0},{"$f":"D19+L19","v":0},{"$f":"E19+M19","v":0},{"$f":"F19+N19","v":0},{"$f":"G19+O19","v":0},{"$f":"I19+Q19","v":0},{"$f":"J19+R19","v":0},{"$f":"W19-X19","v":0}]

{"sheet":"onderling resultaat","index":2,"n_rows":9,"n_cols":8,"rows_kept":9,"cut":false,"hidden":false,"merged":[]}
["thuis"]
["club 1",null,{"$f":"MATCH(B2,thuis)","v":{"$error":"#N/A"}}]
["uit",null,null,"uitslag:",{"$f":"IF(B2=B4,\"\",IF(INDEX(score,C2,C4*2-1)=\"\",\"\",INDEX(score,C2,C4*2-1)))","v":""},"-",{"$f":"IF(B2=B4,\"\",IF(INDEX(score,C2,C4*2)=\"\",\"\",INDEX(score,C2,C4*2)))","v":""},{"$f":"IF(AND(ISNUMBER(E3),ISNUMBER(G3)),IF(B2=B4,\"\",IF(E3=G3,B2&\" verliest 2 punten aan \"&B4,IF(G3>E3,B2&\" verliest 3 punten aan \"&B4,B2&\" pakt de 3 punten tegen \"&B4))),\"Die wedstrijd is niet gespeeld!\")","v":"Die wedstrijd is niet gespeeld!"}]
["club 2",null,{"$f":"MATCH(B4,thuis)","v":{"$error":"#N/A"}}]
[]
["thuis"]
["club 2",{"$f":"IF(B4=\"\",\"\",B4)","v":""},{"$f":"C4","v":{"$error":"#N/A"}}]
["uit",null,null,"uitslag:",{"$f":"IF(B2=B4,\"\",IF(INDEX(score,C7,C9*2-1)=\"\",\"\",INDEX(score,C7,C9*2-1)))","v":""},"-",{"$f":"IF(B2=B4,\"\",IF(INDEX(score,C7,C9*2)=\"\",\"\",INDEX(score,C7,C9*2)))","v":""},{"$f":"IF(AND(ISNUMBER(E8),ISNUMBER(G8)),IF(B7=B9,\"\",IF(G8>E8,B9&\" pakt 3 punten bij \"&B7,IF(G8=E8,B9&\" laat twee punten liggen bij \"&B7,B9&\" verliest 3 punten bij \"&B7))),\"Die wedstrijd is niet gespeeld!\")","v":"Die wedstrijd is niet gespeeld!"}]
["club 1",{"$f":"IF(B2=\"\",\"\",B2)","v":""},{"$f":"C2","v":{"$error":"#N/A"}}]